BEGIN:VCALENDAR
VERSION:2.0
PRODID:icalendar-ruby
CALSCALE:GREGORIAN
METHOD:PUBLISH
BEGIN:VEVENT
DTSTAMP:20260420T014539Z
UID:7-1701750@foxworthfirst.tithelysetup5.com
DTSTART:20261028T230000Z
DTEND:20261029T001000Z
CLASS:PUBLIC
CREATED:20260419T182250
DESCRIPTION:Join us Wednesday evenings for our midweek gathering.  Our Chi
 ldren's groups\, Student FLIGHT\, &amp\; Midweek Bible Study / Prayer-time
  gather after our weekly fellowship meal each Wednesday night.  All group
 s / activities conclude at 7:10pm.\n\n5:15pm - Fellowship Meal (Aug. - May
 )\n6pm - children and student ministry groups / Adult midweek Bible Study 
 &amp\; prayer (Jan. - Dec.)\n
LAST-MODIFIED:20260419T182250
LOCATION:Fellowship Hall Building
SUMMARY:Midweek @ Foxworth First
URL;VALUE=URI:https://foxworthfirst.org/events/midweek-foxworth-first/2026-
 10-28
END:VEVENT
END:VCALENDAR
